BEGIN:VCALENDAR
VERSION:2.0
PRODID:Events Booking
BEGIN:VEVENT
UID:69e4e6d226c11
SUMMARY:Shuttletag in Sasbachwalden
DESCRIPTION:
LOCATION:Bergstraße\, Bischenberg\, Hohritt\, Sasbachwalden\, Verwaltungsg
 emeinschaft Achern\, Ortenaukreis\, Baden-Württemberg\, 77887\, Deutschla
 nd
DTSTART:20260426T080000Z
DTEND:20260426T150000Z
DTSTAMP:20260111T135522Z
ORGANIZER;CN=test.bikestreetboyz.de:MAILTO:dominik@bikestreetboyz.de
GEO:48.616697;8.145376
X-APPLE-STRUCTURED-LOCATION;VALUE=URI;X-ADDRESS=Bergstraße\, Bischenberg\,
  Hohritt\, Sasbachwalden\, Verwaltungsgemeinschaft Achern\, Ortenaukreis\,
  Baden-Württemberg\, 77887\, Deutschland;X-APPLE-RADIUS=72;X-TITLE=Sasbac
 hwalden Schotterparkplatz Spinnerhof:48.616697;8.145376
END:VEVENT
END:VCALENDAR